BEGIN:VCALENDAR
VERSION:2.0
PRODID:-//wp-events-plugin.com//7.2.3.1//EN
TZID:America/Argentina/Buenos_Aires
X-WR-TIMEZONE:America/Argentina/Buenos_Aires
BEGIN:VEVENT
UID:79@turismo.crespo.gob.ar
DTSTART;TZID=America/Argentina/Buenos_Aires:20260424T140000
DTEND;TZID=America/Argentina/Buenos_Aires:20260424T140000
DTSTAMP:20260420T102931Z
URL:https://turismo.crespo.gob.ar/events/prueba-de-jugadores/
SUMMARY:PRUEBA DE JUGADORES
DESCRIPTION:Bajo la consigna 'El más grande llega a tu club'\, el equipo o
 ficial de captación de River Plate estará en Sarmiento de Crespo el vier
 nes 24 de abril.\n\nLa prueba será para futbolistas categorías 2011 a 20
 19. Se realizará desde las 14:00\, en el predio 'Mario Trembecki' ubicado
  en French y Los Reseros.\n\nPor mayor información comunicarse al teléfo
 no: 3435 - 301600.
ATTACH;FMTTYPE=image/jpeg:https://turismo.crespo.gob.ar/wp-content/uploads
 /2026/04/Prueba-de-jugadores-River-Plate.jpg
CATEGORIES:Deporte
LOCATION:Predio 'Mario Trembecki' del Club Atlético Sarmiento de Crespo.\,
  Los Reseros y French. \, Crespo\, 3116\, Argentina
X-APPLE-STRUCTURED-LOCATION;VALUE=URI;X-ADDRESS=Los Reseros y French. \, Cr
 espo\, 3116\, Argentina;X-APPLE-RADIUS=100;X-TITLE=Predio 'Mario Trembecki
 ' del Club Atlético Sarmiento de Crespo.:geo:0,0
END:VEVENT
BEGIN:VTIMEZONE
TZID:America/Argentina/Buenos_Aires
X-LIC-LOCATION:America/Argentina/Buenos_Aires
BEGIN:STANDARD
DTSTART:20250424T140000
TZOFFSETFROM:-0300
TZOFFSETTO:-0300
TZNAME:-03
END:STANDARD
END:VTIMEZONE
END:VCALENDAR