BEGIN:VCALENDAR
VERSION:2.0
PRODID:-//wp-events-plugin.com//7.2.3.1//EN
TZID:America/Argentina/Buenos_Aires
X-WR-TIMEZONE:America/Argentina/Buenos_Aires
BEGIN:VEVENT
UID:80@turismo.crespo.gob.ar
DTSTART;TZID=America/Argentina/Buenos_Aires:20260424T130000
DTEND;TZID=America/Argentina/Buenos_Aires:20260426T130000
DTSTAMP:20260420T103516Z
URL:https://turismo.crespo.gob.ar/events/torneo-de-padel-puntuable-ng/
SUMMARY:TORNEO DE PADEL PUNTUABLE NG
DESCRIPTION:En la continuidad del 'Circuito Anual de Padel'\, se realizará
  un nuevo Torneo Puntuable NG en el Club Atlético Unión de Crespo.\n\nSe
 rá el viernes 24\, sábado 25 y domingo 26 de abril. Comprenderá a las c
 ategorías Damas Suma 13 y Caballeros Suma 12.\n\nCupos limitados. Inscrip
 ción por jugador: $25.000. Para anotarse o recabar mayor información com
 unicarse al teléfono: 3434 - 650923.
ATTACH;FMTTYPE=image/jpeg:https://turismo.crespo.gob.ar/wp-content/uploads
 /2026/04/Torneo-de-Padel-en-Union.jpg
CATEGORIES:Deporte
LOCATION:Polideportivo del Club Atlético Unión de Crespo.\, Mitre y Avda.
  Independencia. \, Crespo\, 3116\, Argentina
X-APPLE-STRUCTURED-LOCATION;VALUE=URI;X-ADDRESS=Mitre y Avda. Independencia
 . \, Crespo\, 3116\, Argentina;X-APPLE-RADIUS=100;X-TITLE=Polideportivo de
 l Club Atlético Unión de Crespo.:geo:0,0
END:VEVENT
BEGIN:VTIMEZONE
TZID:America/Argentina/Buenos_Aires
X-LIC-LOCATION:America/Argentina/Buenos_Aires
BEGIN:STANDARD
DTSTART:20250424T130000
TZOFFSETFROM:-0300
TZOFFSETTO:-0300
TZNAME:-03
END:STANDARD
END:VTIMEZONE
END:VCALENDAR