BEGIN:VCALENDAR
VERSION:2.0
PRODID:-//wp-events-plugin.com//7.2.3.1//EN
TZID:America/Argentina/Buenos_Aires
X-WR-TIMEZONE:America/Argentina/Buenos_Aires
BEGIN:VEVENT
UID:82@turismo.crespo.gob.ar
DTSTART;TZID=America/Argentina/Buenos_Aires:20260421T190000
DTEND;TZID=America/Argentina/Buenos_Aires:20260421T203000
DTSTAMP:20260420T120810Z
URL:https://turismo.crespo.gob.ar/events/voleibol/
SUMMARY:VOLEIBOL
DESCRIPTION:La Escuela Municipal de Crespo recibirá a Paracao amarillo de 
 Paraná\, con categoría Sub 14 femenina.\n\nLa programación se realizar
 á el martes 21 de abril\, desde las 19:00\, en el nuevo y moderno estadio
  construido en la Asociación Deportiva y Cultural.\n\nEl partido correspo
 nde a la segunda fecha del cuadrangular de nivelación organizado por la A
 sociación Paranaense de Voleibol.
ATTACH;FMTTYPE=image/jpeg:https://turismo.crespo.gob.ar/wp-content/uploads
 /2026/04/Escuela-Municipal-de-Crespo-Sub-14.jpg
CATEGORIES:Deporte
LOCATION:Salón Multifunción de la Asociación Deportiva y Cultural.\, Avd
 a. Ramírez y Martín Fierro.\, Crespo\, 3116\, Argentina
X-APPLE-STRUCTURED-LOCATION;VALUE=URI;X-ADDRESS=Avda. Ramírez y Martín Fi
 erro.\, Crespo\, 3116\, Argentina;X-APPLE-RADIUS=100;X-TITLE=Salón Multif
 unción de la Asociación Deportiva y Cultural.:geo:0,0
END:VEVENT
BEGIN:VTIMEZONE
TZID:America/Argentina/Buenos_Aires
X-LIC-LOCATION:America/Argentina/Buenos_Aires
BEGIN:STANDARD
DTSTART:20250421T190000
TZOFFSETFROM:-0300
TZOFFSETTO:-0300
TZNAME:-03
END:STANDARD
END:VTIMEZONE
END:VCALENDAR